Workbook

Sheet Summary
A1: Barber sites: 5-year economics
A2: ESTIMATE. A planning model, not a forecast or tax advice. Month 1 = Nov 2026, starting from zero paying barbers. Edit the Assumptions sheet.
A4: Conservative case
B5: Year 1 | C5: Year 2 | D5: Year 3 | E5: Year 4 | F5: Year 5
A6: Starter barbers (year end) | B6: ='Monthly Conservative'!S16 -> 4.9657388 | C6: ='Monthly Conservative'!S28 -> 10.353271 | D6: ='Monthly Conservative'!S40 -> 15.080337 | E6: ='Monthly Conservative'!S52 -> 17.610288 | F6: ='Monthly Conservative'!S64 -> 19.03419
A7: Maps plan barbers (year end) | B7: ='Monthly Conservative'!T16 -> 0.42194715 | C7: ='Monthly Conservative'!T28 -> 0.85251647 | D7: ='Monthly Conservative'!T40 -> 1.2286493 | E7: ='Monthly Conservative'!T52 -> 1.4176403 | F7: ='Monthly Conservative'!T64 -> 1.5129243
A8: Shop tier (year end) | B8: ='Monthly Conservative'!U16 -> 0 | C8: ='Monthly Conservative'!U28 -> 0 | D8: ='Monthly Conservative'!U40 -> 0 | E8: ='Monthly Conservative'!U52 -> 0 | F8: ='Monthly Conservative'!U64 -> 0
A9: Own it owners (all time) | B9: ='Monthly Conservative'!V16 -> 2.7379863 | C9: ='Monthly Conservative'!V28 -> 7.2081903 | D9: ='Monthly Conservative'!V40 -> 12.855331 | E9: ='Monthly Conservative'!V52 -> 18.573668 | F9: ='Monthly Conservative'!V64 -> 24.330012
A10: On Growth add-on (year end) | B10: ='Monthly Conservative'!X16 -> 0.41904224 | C10: ='Monthly Conservative'!X28 -> 1.1205788 | D10: ='Monthly Conservative'!X40 -> 1.6308987 | E10: ='Monthly Conservative'!X52 -> 1.9027928 | F10: ='Monthly Conservative'!X64 -> 2.0547115
A11: On Barber Pay (year end) | B11: ='Monthly Conservative'!Z16 -> 0 | C11: ='Monthly Conservative'!Z28 -> 0 | D11: ='Monthly Conservative'!Z40 -> 0 | E11: ='Monthly Conservative'!Z52 -> 0 | F11: ='Monthly Conservative'!Z64 -> 0.85612977
A12: New sales in the year | B12: =SUM('Monthly Conservative'!J5:J16) -> 9.126621 | C12: =SUM('Monthly Conservative'!J17:J28) -> 14.90068 | D12: =SUM('Monthly Conservative'!J29:J40) -> 18.823802 | E12: =SUM('Monthly Conservative'!J41:J52) -> 19.061124 | F12: =SUM('Monthly Conservative'!J53:J64) -> 19.187813
A13: Churned in the year | B13: =SUM('Monthly Conservative'!W5:W16) -> 1.548546 | C13: =SUM('Monthly Conservative'!W17:W28) -> 5.5064151 | D13: =SUM('Monthly Conservative'!W29:W40) -> 9.2028908 | E13: =SUM('Monthly Conservative'!W41:W52) -> 11.767513 | F13: =SUM('Monthly Conservative'!W53:W64) -> 13.063551
A14: MRR at year end | B14: ='Monthly Conservative'!AJ16 -> 545.89408 | C14: ='Monthly Conservative'!AJ28 -> 1148.3516 | D14: ='Monthly Conservative'!AJ40 -> 1671.5616 | E14: ='Monthly Conservative'!AJ52 -> 1950.5517 | F14: ='Monthly Conservative'!AJ64 -> 2123.764
A15: Revenue | B15: =SUM('Monthly Conservative'!AI5:AI16) -> 4435.4235 | C15: =SUM('Monthly Conservative'!AI17:AI28) -> 13393.757 | D15: =SUM('Monthly Conservative'!AI29:AI40) -> 20836.247 | E15: =SUM('Monthly Conservative'!AI41:AI52) -> 25742.986 | F15: =SUM('Monthly Conservative'!AI53:AI64) -> 28415.831
A16: Costs | B16: =SUM('Monthly Conservative'!AW5:AW16) -> 5013.8355 | C16: =SUM('Monthly Conservative'!AW17:AW28) -> 6737.1811 | D16: =SUM('Monthly Conservative'!AW29:AW40) -> 8000.6432 | E16: =SUM('Monthly Conservative'!AW41:AW52) -> 9699.7268 | F16: =SUM('Monthly Conservative'!AW53:AW64) -> 16011.78
A17: of which VA / contractor | B17: =SUM('Monthly Conservative'!AS5:AS16) -> 0 | C17: =SUM('Monthly Conservative'!AS17:AS28) -> 0 | D17: =SUM('Monthly Conservative'!AS29:AS40) -> 574.44446 | E17: =SUM('Monthly Conservative'!AS41:AS52) -> 1811.0592 | F17: =SUM('Monthly Conservative'!AS53:AS64) -> 2500.6153
A18: Profit before tax | B18: =SUM('Monthly Conservative'!AX5:AX16) -> -578.41197 | C18: =SUM('Monthly Conservative'!AX17:AX28) -> 6656.5763 | D18: =SUM('Monthly Conservative'!AX29:AX40) -> 12835.603 | E18: =SUM('Monthly Conservative'!AX41:AX52) -> 16043.259 | F18: =SUM('Monthly Conservative'!AX53:AX64) -> 12404.051
A19: After tax (est. set-aside) | B19: =SUM('Monthly Conservative'!AZ5:AZ16) -> -826.01545 | C19: =SUM('Monthly Conservative'!AZ17:AZ28) -> 4659.6034 | D19: =SUM('Monthly Conservative'!AZ29:AZ40) -> 8984.9223 | E19: =SUM('Monthly Conservative'!AZ41:AZ52) -> 11230.281 | F19: =SUM('Monthly Conservative'!AZ53:AZ64) -> 7609.0546
A20: Hours per week needed (Dec) | B20: ='Monthly Conservative'!BE16 -> 11.802239 | C20: ='Monthly Conservative'!BE28 -> 15.781943 | D20: ='Monthly Conservative'!BE40 -> 19.877793 | E20: ='Monthly Conservative'!BE52 -> 21.236822 | F20: ='Monthly Conservative'!BE64 -> 22.055363
A21: of which VA hours per week | B21: ='Monthly Conservative'!BF16 -> 0 | C21: ='Monthly Conservative'!BF28 -> 0 | D21: ='Monthly Conservative'!BF40 -> 1.8777933 | E21: ='Monthly Conservative'!BF52 -> 3.2368225 | F21: ='Monthly Conservative'!BF64 -> 4.0553632
A22: First profitable month | B22: =IF(MIN('Monthly Conservative'!BG5:BG64)=999,"Not in 5 yrs",MIN('Monthly Conservative'!BG5:BG64)) -> 8
A23: Barber Pay goes live (month) | B23: =IF(MAX('Monthly Conservative'!Y5:Y64)=0,"Not in 5 yrs",MAX('Monthly Conservative'!Y5:Y64)) -> 56
A24: $100k/yr after-tax pace, 3 months in a row (month) | B24: =IF(MIN('Monthly Conservative'!BI5:BI64)=999,"Not in 5 yrs",MIN('Monthly Conservative'!BI5:BI64)) -> Not in 5 yrs
A25: Freedom point: goal pace 3 months in a row (month) | B25: =IF(MIN('Monthly Conservative'!BH5:BH64)=999,"Not in 5 yrs",MIN('Monthly Conservative'!BH5:BH64)) -> Not in 5 yrs
A26: Cumulative after-tax by month 60 | B26: ='Monthly Conservative'!BA64 -> 31657.846
A28: Base case
B29: Year 1 | C29: Year 2 | D29: Year 3 | E29: Year 4 | F29: Year 5
A30: Starter barbers (year end) | B30: ='Monthly Base'!S16 -> 19.256656 | C30: ='Monthly Base'!S28 -> 43.516765 | D30: ='Monthly Base'!S40 -> 67.914327 | E30: ='Monthly Base'!S52 -> 85.19764 | F30: ='Monthly Base'!S64 -> 97.571305
A31: Maps plan barbers (year end) | B31: ='Monthly Base'!T16 -> 2.3402059 | C31: ='Monthly Base'!T28 -> 5.0747901 | D31: ='Monthly Base'!T40 -> 7.7328392 | E31: ='Monthly Base'!T52 -> 9.4574126 | F31: ='Monthly Base'!T64 -> 10.586378
A32: Shop tier (year end) | B32: ='Monthly Base'!U16 -> 0 | C32: ='Monthly Base'!U28 -> 0 | D32: ='Monthly Base'!U40 -> 0 | E32: ='Monthly Base'!U52 -> 0 | F32: ='Monthly Base'!U64 -> 0
A33: Own it owners (all time) | B33: ='Monthly Base'!V16 -> 9.6165412 | C33: ='Monthly Base'!V28 -> 25.379658 | D33: ='Monthly Base'!V40 -> 45.740367 | E33: ='Monthly Base'!V52 -> 66.940627 | F33: ='Monthly Base'!V64 -> 88.728711
A34: On Growth add-on (year end) | B34: ='Monthly Base'!X16 -> 4.3193724 | C34: ='Monthly Base'!X28 -> 9.7183111 | D34: ='Monthly Base'!X40 -> 15.129433 | E34: ='Monthly Base'!X52 -> 18.93101 | F34: ='Monthly Base'!X64 -> 21.631536
A35: On Barber Pay (year end) | B35: ='Monthly Base'!Z16 -> 0 | C35: ='Monthly Base'!Z28 -> 14.577467 | D35: ='Monthly Base'!Z40 -> 22.69415 | E35: ='Monthly Base'!Z52 -> 28.396516 | F35: ='Monthly Base'!Z64 -> 32.447305
A36: New sales in the year | B36: =SUM('Monthly Base'!J5:J16) -> 32.055137 | C36: =SUM('Monthly Base'!J17:J28) -> 52.543723 | D36: =SUM('Monthly Base'!J29:J40) -> 67.869028 | E36: =SUM('Monthly Base'!J41:J52) -> 70.667536 | F36: =SUM('Monthly Base'!J53:J64) -> 72.626946
A37: Churned in the year | B37: =SUM('Monthly Base'!W5:W16) -> 3.7266966 | C37: =SUM('Monthly Base'!W17:W28) -> 14.514848 | D37: =SUM('Monthly Base'!W29:W40) -> 26.560921 | E37: =SUM('Monthly Base'!W41:W52) -> 36.819467 | F37: =SUM('Monthly Base'!W53:W64) -> 43.872657
A38: MRR at year end | B38: ='Monthly Base'!AJ16 -> 2393.6413 | C38: ='Monthly Base'!AJ28 -> 5967.946 | D38: ='Monthly Base'!AJ40 -> 9520.9632 | E38: ='Monthly Base'!AJ52 -> 12210.16 | F38: ='Monthly Base'!AJ64 -> 14300.835
A39: Revenue | B39: =SUM('Monthly Base'!AI5:AI16) -> 18448.155 | C39: =SUM('Monthly Base'!AI17:AI28) -> 61579.198 | D39: =SUM('Monthly Base'!AI29:AI40) -> 108866.07 | E39: =SUM('Monthly Base'!AI41:AI52) -> 148202.1 | F39: =SUM('Monthly Base'!AI53:AI64) -> 178226.47
A40: Costs | B40: =SUM('Monthly Base'!AW5:AW16) -> 4980.8441 | C40: =SUM('Monthly Base'!AW17:AW28) -> 14875.094 | D40: =SUM('Monthly Base'!AW29:AW40) -> 23239.418 | E40: =SUM('Monthly Base'!AW41:AW52) -> 31491.607 | F40: =SUM('Monthly Base'!AW53:AW64) -> 37384.523
A41: of which VA / contractor | B41: =SUM('Monthly Base'!AS5:AS16) -> 0 | C41: =SUM('Monthly Base'!AS17:AS28) -> 2235.3933 | D41: =SUM('Monthly Base'!AS29:AS40) -> 10331.035 | E41: =SUM('Monthly Base'!AS41:AS52) -> 15821.569 | F41: =SUM('Monthly Base'!AS53:AS64) -> 19668.42
A42: Profit before tax | B42: =SUM('Monthly Base'!AX5:AX16) -> 13467.311 | C42: =SUM('Monthly Base'!AX17:AX28) -> 46704.104 | D42: =SUM('Monthly Base'!AX29:AX40) -> 85626.649 | E42: =SUM('Monthly Base'!AX41:AX52) -> 116710.49 | F42: =SUM('Monthly Base'!AX53:AX64) -> 140841.94
...

Sheet Assumptions
A1: Assumptions (edit the blue cells)
A2: ESTIMATE. Every number here is a planning guess, not a fact. Change a blue cell and the monthly sheets, summary and chart update.
A3: Month 1 = November 2026. Starts from zero paying barbers. Team = Ryan + his wife, plus automation, plus a VA only for overflow hours.
A5: Assumption | B5: Unit | C5: Conservative | D5: Base | E5: Strong | F5: Why / note | G5: Source
A6: Outreach and sales
A7: DMs per working day, year 1 | B7: DMs | C7: 10 | D7: 15 | E7: 20 | F7: You approve each one. Automation builds the preview. | G7: Estimate
A8: DMs per working day, year 2 | B8: DMs | C8: 12 | D8: 20 | E8: 25 | F8: Your wife takes some approvals. | G8: Estimate
A9: DMs per working day, years 3 to 5 | B9: DMs | C9: 15 | D9: 25 | E9: 30 | F9: Instagram limits cold DMs per account. Above ~30/day means a second account. | G9: Estimate
A10: Working days per month | B10: days | C10: 20 | D10: 21 | E10: 22 | G10: Estimate
A11: Reply rate on DMs | B11: % | C11: 0.05 | D11: 0.08 | E11: 0.1 | F11: Cold email averages 0.45% to 5-10%. A free preview of his own site should beat that. | G11: S1, S2
A12: Replies that become paying clients | B12: % | C12: 0.1 | D12: 0.12 | E12: 0.15 | G12: Estimate
A13: Month 1 sales efficiency (learning curve) | B13: % | C13: 0.4 | D13: 0.5 | E13: 0.6 | F13: Grows to 100% over the ramp months. | G13: Estimate
A14: Ramp months to full efficiency | B14: months | C14: 9 | D14: 6 | E14: 4 | G14: Estimate
A15: Referrals per month, as % of active barbers | B15: % | C15: 0.005 | D15: 0.01 | E15: 0.015 | F15: 1 free month per signed referral. | G15: Estimate
A16: Plan mix and churn
A17: New sales that pick Starter (rest Own it) | B17: % | C17: 0.7 | D17: 0.7 | E17: 0.7 | F17: Page target was 3 Starter : 1 Own it. | G17: Estimate
A18: New sales on a Shop tier (multi-chair shops) | B18: % | C18: 0 | D18: 0 | E18: 0.05 | F18: Not on the page yet. Lever only. | G18: Estimate
A19: Starters who take the 30-day $99 back | B19: % | C19: 0.15 | D19: 0.1 | E19: 0.05 | G19: Plan sec. 05
A20: Starter monthly dropout during the 12-month minimum | B20: %/mo | C20: 0.02 | D20: 0.01 | E20: 0.005 | F20: Barber quits, card dies, or stops paying. Hard to collect abroad. | G20: S3 (involuntary)
A21: Starters who leave right at month 12 | B21: % | C21: 0.3 | D21: 0.2 | E21: 0.1 | G21: Estimate
A22: Starter monthly churn after the minimum | B22: %/mo | C22: 0.05 | D22: 0.035 | E22: 0.025 | F22: SMB subscriptions run ~3-5%/mo. | G22: S3, S4, S5
A23: Own it buyers who add the Maps plan | B23: % | C23: 0.2 | D23: 0.3 | E23: 0.4 | G23: Estimate
A24: Maps plan monthly churn (month to month) | B24: %/mo | C24: 0.06 | D24: 0.045 | E24: 0.03 | F24: SEO retainers ~3.2%/mo. | G24: S6
A25: Shop tier monthly churn | B25: %/mo | C25: 0.03 | D25: 0.03 | E25: 0.025 | G25: S5
A26: Prices
A27: Starter start fee | B27: $ | C27: 99 | D27: 99 | E27: 99 | G27: Plan sec. 03
A28: Starter monthly price | B28: $ | C28: 99 | D28: 99 | E28: 99 | G28: Plan sec. 03
A29: Own it price (one time) | B29: $ | C29: 499 | D29: 499 | E29: 499 | G29: Plan sec. 03
A30: Maps plan price | B30: $/mo | C30: 79 | D30: 79 | E30: 79 | G30: Plan sec. 03
A31: Shop tier price | B31: $/mo | C31: 399 | D31: 399 | E31: 399 | G31: Estimate
A32: Price increase each year from year 2 | B32: %/yr | C32: 0 | D32: 0.03 | E32: 0.05 | F32: Applies to Starter, Own it, Maps. $10 fee stays flat. | G32: Estimate
A33: Growth add-on (ads)
A34: Growth add-on: first month sold (after the pilot) | B34: month | C34: 6 | D34: 4 | E34: 3 | G34: Estimate
A35: Growth ramps in over this many months | B35: months | C35: 9 | D35: 6 | E35: 4 | G35: Estimate
A36: Barbers on Growth (share of Starter + Maps barbers) | B36: % | C36: 0.1 | D36: 0.2 | E36: 0.3 | G36: Estimate
A37: New ad clients per Growth barber per month | B37: clients | C37: 5 | D37: 7 | E37: 10 | F37: $150/mo budget at ~$20 a client (hot $15, cold $30). | G37: Plan sec. 06
A38: Your fee per new client after the cut | B38: $ | C38: 10 | D38: 10 | E38: 10 | G38: Plan sec. 06
A39: Barber Pay (phase 2)
A40: Barber Pay goes live at this many Starter + Maps barbers | B40: barbers | C40: 20 | D40: 20 | E40: 20 | F40: Built around 10, live by ~20. | G40: Estimate
A41: Barber Pay earliest live month (build time) | B41: month | C41: 12 | D41: 9 | E41: 9 | G41: Estimate
...

Sheet Monthly Conservative
A1: Monthly: Conservative
A2: ESTIMATE | D2: Counts are averages, so they show decimals. Revenue and costs in USD. All formulas point at the Assumptions sheet.
A4: Month # | B4: Month | C4: Year | D4: DMs per day | E4: DMs sent | F4: Replies | G4: Sales ramp | H4: New from DMs | I4: Referrals | J4: New sales | K4: New Shop tier | L4: New Starter | M4: New Own it | N4: Starter refunds (30-day) | O4: Starters entering | P4: Finishing 12-mo min | Q4: Starter in minimum | R4: Starter past minimum | S4: Starter total | T4: Maps plan | U4: Shop tier | V4: Own it owners (all time) | W4: Churned (all plans) | X4: Growth barbers | Y4: Barber Pay live since month | Z4: Barber Pay barbers | AA4: Price multiplier | AB4: Rev: Starter start fees | AC4: Rev: Starter monthly | AD4: Rev: Own it | AE4: Rev: Maps plan | AF4: Rev: Shop tier | AG4: Rev: Growth fees | AH4: Rev: Barber Pay | AI4: Revenue | AJ4: MRR (end of month) | AK4: Cost: card fees | AL4: Cost: Stripe Billing | AM4: Cost: domains | AN4: Cost: tools | AO4: Cost: own-brand ads | AP4: Hours needed (month) | AQ4: Team hours available | AR4: VA hours | AS4: Cost: VA / contractor | AT4: Cost: accountant | AU4: Cost: LLC, agent, insurance | AV4: Cost: Barber Pay build + run | AW4: Total costs | AX4: Profit before tax | AY4: Tax set-aside (est.) | AZ4: After-tax take-home | BA4: Cumulative after-tax | BB4: Months in a row at goal | BC4: Freedom point reached | BD4: Months in a row at $100k pace | BE4: Hours per week needed | BF4: VA hours per week | BG4: Helper: profit month (999 = no) | BH4: Helper: goal month (999 = no) | BI4: Helper: $100k month (999 = no)
A5: 1 | B5: =DATE(2026,10+A5,1) -> 46327 | C5: =INT((A5-1)/12)+1 -> 1 | D5: =IF(C5=1,Assumptions!$C$7,IF(C5=2,Assumptions!$C$8,Assumptions!$C$9)) -> 10 | E5: =D5*Assumptions!$C$10 -> 200 | F5: =E5*Assumptions!$C$11 -> 10 | G5: =MIN(1,Assumptions!$C$13+(1-Assumptions!$C$13)*(A5-1)/Assumptions!$C$14) -> 0.4 | H5: =F5*Assumptions!$C$12*G5 -> 0.4 | I5: =Assumptions!$C$15*(0+0+0+0) -> 0 | J5: =H5+I5 -> 0.4 | K5: =J5*Assumptions!$C$18 -> 0 | L5: =(J5-K5)*Assumptions!$C$17 -> 0.28 | M5: =J5-K5-L5 -> 0.12 | N5: =L5*Assumptions!$C$19 -> 0.042 | O5: =L5-N5 -> 0.238 | P5: =0 -> 0 | Q5: =0*(1-Assumptions!$C$20)+O5-P5 -> 0.238 | R5: =0*(1-Assumptions!$C$22)+P5*(1-Assumptions!$C$21) -> 0 | S5: =Q5+R5 -> 0.238 | T5: =0*(1-Assumptions!$C$24)+M5*Assumptions!$C$23 -> 0.024 | U5: =0*(1-Assumptions!$C$25)+K5 -> 0 | V5: =0+M5 -> 0.12 | W5: =N5+0*Assumptions!$C$20+P5*Assumptions!$C$21+0*Assumptions!$C$22+0*Assumptions!$C$24+0*Assumptions!$C$25 -> 0.042 | X5: =IF(A5<Assumptions!$C$34,0,Assumptions!$C$36*MIN(1,(A5-Assumptions!$C$34+1)/Assumptions!$C$35))*(S5+T5) -> 0 | Y5: =IF(AND(A5>=Assumptions!$C$41,0+0+0>=Assumptions!$C$40),A5,0) -> 0 | Z5: =IF(Y5>0,Assumptions!$C$42*MIN(1,(A5-Y5+1)/Assumptions!$C$43),0)*(S5+T5) -> 0 | AA5: =(1+Assumptions!$C$32)^(C5-1) -> 1 | AB5: =O5*Assumptions!$C$27*AA5 -> 23.562 | AC5: =(0+0)*Assumptions!$C$28*AA5 -> 0 | AD5: =M5*Assumptions!$C$29*AA5 -> 59.88 | AE5: =0*Assumptions!$C$30*AA5 -> 0 | AF5: =0*Assumptions!$C$31*AA5 -> 0 | AG5: =X5*Assumptions!$C$37*Assumptions!$C$38 -> 0 | AH5: =Z5*Assumptions!$C$44*Assumptions!$C$45 -> 0 | AI5: =SUM(AB5:AH5) -> 83.442 | AJ5: =(S5*Assumptions!$C$28+T5*Assumptions!$C$30+U5*Assumptions!$C$31)*AA5+AG5+AH5 -> 25.458 | AK5: =(AI5-AH5)*Assumptions!$C$49 -> 3.33768 | AL5: =(AC5+AE5+AF5)*Assumptions!$C$50 -> 0 | AM5: =S5*Assumptions!$C$51+M5*Assumptions!$C$52 -> 2.0975 | AN5: =Assumptions!$C$53+Assumptions!$C$54*(S5+T5+U5) -> 201.048 | AO5: =IF(C5>=2,Assumptions!$C$55,0) -> 0 | AP5: =E5*Assumptions!$C$60/60+F5*Assumptions!$C$61+J5*Assumptions!$C$62+(S5+T5)*Assumptions!$C$63+X5*Assumptions!$C$64+Z5*Assumptions!$C$65+U5*Assumptions!$C$66+Assumptions!$C$67*52/12 -> 38.390667 | AQ5: =IF(0=1,Assumptions!$C$69,Assumptions!$C$68)*52/12 -> 78 | AR5: =MAX(0,AP5-AQ5) -> 0 | AS5: =AR5*Assumptions!$C$70*Assumptions!$C$71 -> 0 | AT5: =Assumptions!$C$56/12 -> 100 | AU5: =IF(A5=1,Assumptions!$C$57,0)+Assumptions!$C$58 -> 360 | AV5: =IF(AND(Y5>0,Y5=A5),Assumptions!$C$46,0)+IF(Y5>0,Assumptions!$C$47,0) -> 0 | AW5: =AK5+AL5+AM5+AN5+AO5+AS5+AT5+AU5+AV5 -> 666.48318 | AX5: =AI5-AW5 -> -583.04118 | AY5: =MAX(0,AX5)*Assumptions!$C$73 -> 0 | AZ5: =AX5-AY5 -> -583.04118 | BA5: =0+AZ5 -> -583.04118 | BB5: =IF(AZ5>=Assumptions!$C$74/12,0+1,0) -> 0 | BC5: =IF(OR(0=1,BB5>=3),1,0) -> 0 | BD5: =IF(AZ5>=Assumptions!$C$75/12,0+1,0) -> 0 | BE5: =AP5*12/52 -> 8.8593846 | BF5: =AR5*12/52 -> 0 | BG5: =IF(AX5>0,A5,999) -> 999 | BH5: =IF(BB5>=3,A5,999) -> 999 | BI5: =IF(BD5>=3,A5,999) -> 999
A6: 2 | B6: =DATE(2026,10+A6,1) -> 46357 | C6: =INT((A6-1)/12)+1 -> 1 | D6: =IF(C6=1,Assumptions!$C$7,IF(C6=2,Assumptions!$C$8,Assumptions!$C$9)) -> 10 | E6: =D6*Assumptions!$C$10 -> 200 | F6: =E6*Assumptions!$C$11 -> 10 | G6: =MIN(1,Assumptions!$C$13+(1-Assumptions!$C$13)*(A6-1)/Assumptions!$C$14) -> 0.46666667 | H6: =F6*Assumptions!$C$12*G6 -> 0.46666667 | I6: =Assumptions!$C$15*(Q5+R5+T5+U5) -> 0.00131 | J6: =H6+I6 -> 0.46797667 | K6: =J6*Assumptions!$C$18 -> 0 | L6: =(J6-K6)*Assumptions!$C$17 -> 0.32758367 | M6: =J6-K6-L6 -> 0.140393 | N6: =L6*Assumptions!$C$19 -> 0.04913755 | O6: =L6-N6 -> 0.27844612 | P6: =0 -> 0 | Q6: =Q5*(1-Assumptions!$C$20)+O6-P6 -> 0.51168612 | R6: =R5*(1-Assumptions!$C$22)+P6*(1-Assumptions!$C$21) -> 0 | S6: =Q6+R6 -> 0.51168612 | T6: =T5*(1-Assumptions!$C$24)+M6*Assumptions!$C$23 -> 0.0506386 | U6: =U5*(1-Assumptions!$C$25)+K6 -> 0 | V6: =V5+M6 -> 0.260393 | W6: =N6+Q5*Assumptions!$C$20+P6*Assumptions!$C$21+R5*Assumptions!$C$22+T5*Assumptions!$C$24+U5*Assumptions!$C$25 -> 0.05533755 | X6: =IF(A6<Assumptions!$C$34,0,Assumptions!$C$36*MIN(1,(A6-Assumptions!$C$34+1)/Assumptions!$C$35))*(S6+T6) -> 0 | Y6: =IF(Y5>0,Y5,IF(AND(A6>=Assumptions!$C$41,Q5+R5+T5>=Assumptions!$C$40),A6,0)) -> 0 | Z6: =IF(Y6>0,Assumptions!$C$42*MIN(1,(A6-Y6+1)/Assumptions!$C$43),0)*(S6+T6) -> 0 | AA6: =(1+Assumptions!$C$32)^(C6-1) -> 1 | AB6: =O6*Assumptions!$C$27*AA6 -> 27.566166 | AC6: =(Q5+R5)*Assumptions!$C$28*AA6 -> 23.562 | AD6: =M6*Assumptions!$C$29*AA6 -> 70.056107 | AE6: =T5*Assumptions!$C$30*AA6 -> 1.896 | AF6: =U5*Assumptions!$C$31*AA6 -> 0 | AG6: =X6*Assumptions!$C$37*Assumptions!$C$38 -> 0 | AH6: =Z6*Assumptions!$C$44*Assumptions!$C$45 -> 0 | AI6: =SUM(AB6:AH6) -> 123.08027 | AJ6: =(S6*Assumptions!$C$28+T6*Assumptions!$C$30+U6*Assumptions!$C$31)*AA6+AG6+AH6 -> 54.657375 | AK6: =(AI6-AH6)*Assumptions!$C$49 -> 4.9232109 | AL6: =(AC6+AE6+AF6)*Assumptions!$C$50 -> 0.178206 | AM6: =S6*Assumptions!$C$51+M6*Assumptions!$C$52 -> 2.7455026 | AN6: =Assumptions!$C$53+Assumptions!$C$54*(S6+T6+U6) -> 202.2493 | AO6: =IF(C6>=2,Assumptions!$C$55,0) -> 0 | AP6: =E6*Assumptions!$C$60/60+F6*Assumptions!$C$61+J6*Assumptions!$C$62+(S6+T6)*Assumptions!$C$63+X6*Assumptions!$C$64+Z6*Assumptions!$C$65+U6*Assumptions!$C$66+Assumptions!$C$67*52/12 -> 39.195246 | AQ6: =IF(BC5=1,Assumptions!$C$69,Assumptions!$C$68)*52/12 -> 78 | AR6: =MAX(0,AP6-AQ6) -> 0 | AS6: =AR6*Assumptions!$C$70*Assumptions!$C$71 -> 0 | AT6: =Assumptions!$C$56/12 -> 100 | AU6: =IF(A6=1,Assumptions!$C$57,0)+Assumptions!$C$58 -> 60 | AV6: =IF(AND(Y6>0,Y6=A6),Assumptions!$C$46,0)+IF(Y6>0,Assumptions!$C$47,0) -> 0 | AW6: =AK6+AL6+AM6+AN6+AO6+AS6+AT6+AU6+AV6 -> 370.09622 | AX6: =AI6-AW6 -> -247.01595 | AY6: =MAX(0,AX6)*Assumptions!$C$73 -> 0 | AZ6: =AX6-AY6 -> -247.01595 | BA6: =BA5+AZ6 -> -830.05713 | BB6: =IF(AZ6>=Assumptions!$C$74/12,BB5+1,0) -> 0 | BC6: =IF(OR(BC5=1,BB6>=3),1,0) -> 0 | BD6: =IF(AZ6>=Assumptions!$C$75/12,BD5+1,0) -> 0 | BE6: =AP6*12/52 -> 9.0450568 | BF6: =AR6*12/52 -> 0 | BG6: =IF(AX6>0,A6,999) -> 999 | BH6: =IF(BB6>=3,A6,999) -> 999 | BI6: =IF(BD6>=3,A6,999) -> 999
A7: 3 | B7: =DATE(2026,10+A7,1) -> 46388 | C7: =INT((A7-1)/12)+1 -> 1 | D7: =IF(C7=1,Assumptions!$C$7,IF(C7=2,Assumptions!$C$8,Assumptions!$C$9)) -> 10 | E7: =D7*Assumptions!$C$10 -> 200 | F7: =E7*Assumptions!$C$11 -> 10 | G7: =MIN(1,Assumptions!$C$13+(1-Assumptions!$C$13)*(A7-1)/Assumptions!$C$14) -> 0.53333333 | H7: =F7*Assumptions!$C$12*G7 -> 0.53333333 | I7: =Assumptions!$C$15*(Q6+R6+T6+U6) -> 0.0028116236 | J7: =H7+I7 -> 0.53614496 | K7: =J7*Assumptions!$C$18 -> 0 | L7: =(J7-K7)*Assumptions!$C$17 -> 0.37530147 | M7: =J7-K7-L7 -> 0.16084349 | N7: =L7*Assumptions!$C$19 -> 0.05629522 | O7: =L7-N7 -> 0.31900625 | P7: =0 -> 0 | Q7: =Q6*(1-Assumptions!$C$20)+O7-P7 -> 0.82045864 | R7: =R6*(1-Assumptions!$C$22)+P7*(1-Assumptions!$C$21) -> 0 | S7: =Q7+R7 -> 0.82045864 | T7: =T6*(1-Assumptions!$C$24)+M7*Assumptions!$C$23 -> 0.079768981 | U7: =U6*(1-Assumptions!$C$25)+K7 -> 0 | V7: =V6+M7 -> 0.42123649 | W7: =N7+Q6*Assumptions!$C$20+P7*Assumptions!$C$21+R6*Assumptions!$C$22+T6*Assumptions!$C$24+U6*Assumptions!$C$25 -> 0.069567259 | X7: =IF(A7<Assumptions!$C$34,0,Assumptions!$C$36*MIN(1,(A7-Assumptions!$C$34+1)/Assumptions!$C$35))*(S7+T7) -> 0 | Y7: =IF(Y6>0,Y6,IF(AND(A7>=Assumptions!$C$41,Q6+R6+T6>=Assumptions!$C$40),A7,0)) -> 0 | Z7: =IF(Y7>0,Assumptions!$C$42*MIN(1,(A7-Y7+1)/Assumptions!$C$43),0)*(S7+T7) -> 0 | AA7: =(1+Assumptions!$C$32)^(C7-1) -> 1 | AB7: =O7*Assumptions!$C$27*AA7 -> 31.581619 | AC7: =(Q6+R6)*Assumptions!$C$28*AA7 -> 50.656926 | AD7: =M7*Assumptions!$C$29*AA7 -> 80.2609 | AE7: =T6*Assumptions!$C$30*AA7 -> 4.0004494 | AF7: =U6*Assumptions!$C$31*AA7 -> 0 | AG7: =X7*Assumptions!$C$37*Assumptions!$C$38 -> 0 | AH7: =Z7*Assumptions!$C$44*Assumptions!$C$45 -> 0 | AI7: =SUM(AB7:AH7) -> 166.49989 | AJ7: =(S7*Assumptions!$C$28+T7*Assumptions!$C$30+U7*Assumptions!$C$31)*AA7+AG7+AH7 -> 87.527155 | AK7: =(AI7-AH7)*Assumptions!$C$49 -> 6.6599957 | AL7: =(AC7+AE7+AF7)*Assumptions!$C$50 -> 0.38260162 | AM7: =S7*Assumptions!$C$51+M7*Assumptions!$C$52 -> 3.4382256 | AN7: =Assumptions!$C$53+Assumptions!$C$54*(S7+T7+U7) -> 203.60091 | AO7: =IF(C7>=2,Assumptions!$C$55,0) -> 0 | AP7: =E7*Assumptions!$C$60/60+F7*Assumptions!$C$61+J7*Assumptions!$C$62+(S7+T7)*Assumptions!$C$63+X7*Assumptions!$C$64+Z7*Assumptions!$C$65+U7*Assumptions!$C$66+Assumptions!$C$67*52/12 -> 40.075557 | AQ7: =IF(BC6=1,Assumptions!$C$69,Assumptions!$C$68)*52/12 -> 78 | AR7: =MAX(0,AP7-AQ7) -> 0 | AS7: =AR7*Assumptions!$C$70*Assumptions!$C$71 -> 0 | AT7: =Assumptions!$C$56/12 -> 100 | AU7: =IF(A7=1,Assumptions!$C$57,0)+Assumptions!$C$58 -> 60 | AV7: =IF(AND(Y7>0,Y7=A7),Assumptions!$C$46,0)+IF(Y7>0,Assumptions!$C$47,0) -> 0 | AW7: =AK7+AL7+AM7+AN7+AO7+AS7+AT7+AU7+AV7 -> 374.08173 | AX7: =AI7-AW7 -> -207.58184 | AY7: =MAX(0,AX7)*Assumptions!$C$73 -> 0 | AZ7: =AX7-AY7 -> -207.58184 | BA7: =BA6+AZ7 -> -1037.639 | BB7: =IF(AZ7>=Assumptions!$C$74/12,BB6+1,0) -> 0 | BC7: =IF(OR(BC6=1,BB7>=3),1,0) -> 0 | BD7: =IF(AZ7>=Assumptions!$C$75/12,BD6+1,0) -> 0 | BE7: =AP7*12/52 -> 9.2482054 | BF7: =AR7*12/52 -> 0 | BG7: =IF(AX7>0,A7,999) -> 999 | BH7: =IF(BB7>=3,A7,999) -> 999 | BI7: =IF(BD7>=3,A7,999) -> 999
A8: 4 | B8: =DATE(2026,10+A8,1) -> 46419 | C8: =INT((A8-1)/12)+1 -> 1 | D8: =IF(C8=1,Assumptions!$C$7,IF(C8=2,Assumptions!$C$8,Assumptions!$C$9)) -> 10 | E8: =D8*Assumptions!$C$10 -> 200 | F8: =E8*Assumptions!$C$11 -> 10 | G8: =MIN(1,Assumptions!$C$13+(1-Assumptions!$C$13)*(A8-1)/Assumptions!$C$14) -> 0.6 | H8: =F8*Assumptions!$C$12*G8 -> 0.6 | I8: =Assumptions!$C$15*(Q7+R7+T7+U7) -> 0.0045011381 | J8: =H8+I8 -> 0.60450114 | K8: =J8*Assumptions!$C$18 -> 0 | L8: =(J8-K8)*Assumptions!$C$17 -> 0.4231508 | M8: =J8-K8-L8 -> 0.18135034 | N8: =L8*Assumptions!$C$19 -> 0.06347262 | O8: =L8-N8 -> 0.35967818 | P8: =0 -> 0 | Q8: =Q7*(1-Assumptions!$C$20)+O8-P8 -> 1.1637276 | R8: =R7*(1-Assumptions!$C$22)+P8*(1-Assumptions!$C$21) -> 0 | S8: =Q8+R8 -> 1.1637276 | T8: =T7*(1-Assumptions!$C$24)+M8*Assumptions!$C$23 -> 0.11125291 | U8: =U7*(1-Assumptions!$C$25)+K8 -> 0 | V8: =V7+M8 -> 0.60258683 | W8: =N8+Q7*Assumptions!$C$20+P8*Assumptions!$C$21+R7*Assumptions!$C$22+T7*Assumptions!$C$24+U7*Assumptions!$C$25 -> 0.084667931 | X8: =IF(A8<Assumptions!$C$34,0,Assumptions!$C$36*MIN(1,(A8-Assumptions!$C$34+1)/Assumptions!$C$35))*(S8+T8) -> 0 | Y8: =IF(Y7>0,Y7,IF(AND(A8>=Assumptions!$C$41,Q7+R7+T7>=Assumptions!$C$40),A8,0)) -> 0 | Z8: =IF(Y8>0,Assumptions!$C$42*MIN(1,(A8-Y8+1)/Assumptions!$C$43),0)*(S8+T8) -> 0 | AA8: =(1+Assumptions!$C$32)^(C8-1) -> 1 | AB8: =O8*Assumptions!$C$27*AA8 -> 35.60814 | AC8: =(Q7+R7)*Assumptions!$C$28*AA8 -> 81.225406 | AD8: =M8*Assumptions!$C$29*AA8 -> 90.49382 | AE8: =T7*Assumptions!$C$30*AA8 -> 6.3017495 | AF8: =U7*Assumptions!$C$31*AA8 -> 0 | AG8: =X8*Assumptions!$C$37*Assumptions!$C$38 -> 0 | AH8: =Z8*Assumptions!$C$44*Assumptions!$C$45 -> 0 | AI8: =SUM(AB8:AH8) -> 213.62912 | AJ8: =(S8*Assumptions!$C$28+T8*Assumptions!$C$30+U8*Assumptions!$C$31)*AA8+AG8+AH8 -> 123.99802 | AK8: =(AI8-AH8)*Assumptions!$C$49 -> 8.5451646 | AL8: =(AC8+AE8+AF8)*Assumptions!$C$50 -> 0.61269009 | AM8: =S8*Assumptions!$C$51+M8*Assumptions!$C$52 -> 4.1749147 | AN8: =Assumptions!$C$53+Assumptions!$C$54*(S8+T8+U8) -> 205.09992 | AO8: =IF(C8>=2,Assumptions!$C$55,0) -> 0 | AP8: =E8*Assumptions!$C$60/60+F8*Assumptions!$C$61+J8*Assumptions!$C$62+(S8+T8)*Assumptions!$C$63+X8*Assumptions!$C$64+Z8*Assumptions!$C$65+U8*Assumptions!$C$66+Assumptions!$C$67*52/12 -> 41.030131 | AQ8: =IF(BC7=1,Assumptions!$C$69,Assumptions!$C$68)*52/12 -> 78 | AR8: =MAX(0,AP8-AQ8) -> 0 | AS8: =AR8*Assumptions!$C$70*Assumptions!$C$71 -> 0 | AT8: =Assumptions!$C$56/12 -> 100 | AU8: =IF(A8=1,Assumptions!$C$57,0)+Assumptions!$C$58 -> 60 | AV8: =IF(AND(Y8>0,Y8=A8),Assumptions!$C$46,0)+IF(Y8>0,Assumptions!$C$47,0) -> 0 | AW8: =AK8+AL8+AM8+AN8+AO8+AS8+AT8+AU8+AV8 -> 378.43269 | AX8: =AI8-AW8 -> -164.80358 | AY8: =MAX(0,AX8)*Assumptions!$C$73 -> 0 | AZ8: =AX8-AY8 -> -164.80358 | BA8: =BA7+AZ8 -> -1202.4425 | BB8: =IF(AZ8>=Assumptions!$C$74/12,BB7+1,0) -> 0 | BC8: =IF(OR(BC7=1,BB8>=3),1,0) -> 0 | BD8: =IF(AZ8>=Assumptions!$C$75/12,BD7+1,0) -> 0 | BE8: =AP8*12/52 -> 9.4684918 | BF8: =AR8*12/52 -> 0 | BG8: =IF(AX8>0,A8,999) -> 999 | BH8: =IF(BB8>=3,A8,999) -> 999 | BI8: =IF(BD8>=3,A8,999) -> 999
A9: 5 | B9: =DATE(2026,10+A9,1) -> 46447 | C9: =INT((A9-1)/12)+1 -> 1 | D9: =IF(C9=1,Assumptions!$C$7,IF(C9=2,Assumptions!$C$8,Assumptions!$C$9)) -> 10 | E9: =D9*Assumptions!$C$10 -> 200 | F9: =E9*Assumptions!$C$11 -> 10 | G9: =MIN(1,Assumptions!$C$13+(1-Assumptions!$C$13)*(A9-1)/Assumptions!$C$14) -> 0.66666667 | H9: =F9*Assumptions!$C$12*G9 -> 0.66666667 | I9: =Assumptions!$C$15*(Q8+R8+T8+U8) -> 0.0063749028 | J9: =H9+I9 -> 0.67304157 | K9: =J9*Assumptions!$C$18 -> 0 | L9: =(J9-K9)*Assumptions!$C$17 -> 0.4711291 | M9: =J9-K9-L9 -> 0.20191247 | N9: =L9*Assumptions!$C$19 -> 0.070669365 | O9: =L9-N9 -> 0.40045973 | P9: =0 -> 0 | Q9: =Q8*(1-Assumptions!$C$20)+O9-P9 -> 1.5409128 | R9: =R8*(1-Assumptions!$C$22)+P9*(1-Assumptions!$C$21) -> 0 | S9: =Q9+R9 -> 1.5409128 | T9: =T8*(1-Assumptions!$C$24)+M9*Assumptions!$C$23 -> 0.14496023 | U9: =U8*(1-Assumptions!$C$25)+K9 -> 0 | V9: =V8+M9 -> 0.8044993 | W9: =N9+Q8*Assumptions!$C$20+P9*Assumptions!$C$21+R8*Assumptions!$C$22+T8*Assumptions!$C$24+U8*Assumptions!$C$25 -> 0.10061909 | X9: =IF(A9<Assumptions!$C$34,0,Assumptions!$C$36*MIN(1,(A9-Assumptions!$C$34+1)/Assumptions!$C$35))*(S9+T9) -> 0 | Y9: =IF(Y8>0,Y8,IF(AND(A9>=Assumptions!$C$41,Q8+R8+T8>=Assumptions!$C$40),A9,0)) -> 0 | Z9: =IF(Y9>0,Assumptions!$C$42*MIN(1,(A9-Y9+1)/Assumptions!$C$43),0)*(S9+T9) -> 0 | AA9: =(1+Assumptions!$C$32)^(C9-1) -> 1 | AB9: =O9*Assumptions!$C$27*AA9 -> 39.645514 | AC9: =(Q8+R8)*Assumptions!$C$28*AA9 -> 115.20904 | AD9: =M9*Assumptions!$C$29*AA9 -> 100.75432 | AE9: =T8*Assumptions!$C$30*AA9 -> 8.78898 | AF9: =U8*Assumptions!$C$31*AA9 -> 0 | AG9: =X9*Assumptions!$C$37*Assumptions!$C$38 -> 0 | AH9: =Z9*Assumptions!$C$44*Assumptions!$C$45 -> 0 | AI9: =SUM(AB9:AH9) -> 264.39785 | AJ9: =(S9*Assumptions!$C$28+T9*Assumptions!$C$30+U9*Assumptions!$C$31)*AA9+AG9+AH9 -> 164.00223 | AK9: =(AI9-AH9)*Assumptions!$C$49 -> 10.575914 | AL9: =(AC9+AE9+AF9)*Assumptions!$C$50 -> 0.86798612 | AM9: =S9*Assumptions!$C$51+M9*Assumptions!$C$52 -> 4.9548281 | AN9: =Assumptions!$C$53+Assumptions!$C$54*(S9+T9+U9) -> 206.74349 | AO9: =IF(C9>=2,Assumptions!$C$55,0) -> 0 | AP9: =E9*Assumptions!$C$60/60+F9*Assumptions!$C$61+J9*Assumptions!$C$62+(S9+T9)*Assumptions!$C$63+X9*Assumptions!$C$64+Z9*Assumptions!$C$65+U9*Assumptions!$C$66+Assumptions!$C$67*52/12 -> 42.057537 | AQ9: =IF(BC8=1,Assumptions!$C$69,Assumptions!$C$68)*52/12 -> 78 | AR9: =MAX(0,AP9-AQ9) -> 0 | AS9: =AR9*Assumptions!$C$70*Assumptions!$C$71 -> 0 | AT9: =Assumptions!$C$56/12 -> 100 | AU9: =IF(A9=1,Assumptions!$C$57,0)+Assumptions!$C$58 -> 60 | AV9: =IF(AND(Y9>0,Y9=A9),Assumptions!$C$46,0)+IF(Y9>0,Assumptions!$C$47,0) -> 0 | AW9: =AK9+AL9+AM9+AN9+AO9+AS9+AT9+AU9+AV9 -> 383.14222 | AX9: =AI9-AW9 -> -118.74437 | AY9: =MAX(0,AX9)*Assumptions!$C$73 -> 0 | AZ9: =AX9-AY9 -> -118.74437 | BA9: =BA8+AZ9 -> -1321.1869 | BB9: =IF(AZ9>=Assumptions!$C$74/12,BB8+1,0) -> 0 | BC9: =IF(OR(BC8=1,BB9>=3),1,0) -> 0 | BD9: =IF(AZ9>=Assumptions!$C$75/12,BD8+1,0) -> 0 | BE9: =AP9*12/52 -> 9.7055856 | BF9: =AR9*12/52 -> 0 | BG9: =IF(AX9>0,A9,999) -> 999 | BH9: =IF(BB9>=3,A9,999) -> 999 | BI9: =IF(BD9>=3,A9,999) -> 999
A10: 6 | B10: =DATE(2026,10+A10,1) -> 46478 | C10: =INT((A10-1)/12)+1 -> 1 | D10: =IF(C10=1,Assumptions!$C$7,IF(C10=2,Assumptions!$C$8,Assumptions!$C$9)) -> 10 | E10: =D10*Assumptions!$C$10 -> 200 | F10: =E10*Assumptions!$C$11 -> 10 | G10: =MIN(1,Assumptions!$C$13+(1-Assumptions!$C$13)*(A10-1)/Assumptions!$C$14) -> 0.73333333 | H10: =F10*Assumptions!$C$12*G10 -> 0.73333333 | I10: =Assumptions!$C$15*(Q9+R9+T9+U9) -> 0.0084293653 | J10: =H10+I10 -> 0.7417627 | K10: =J10*Assumptions!$C$18 -> 0 | L10: =(J10-K10)*Assumptions!$C$17 -> 0.51923389 | M10: =J10-K10-L10 -> 0.22252881 | N10: =L10*Assumptions!$C$19 -> 0.077885083 | O10: =L10-N10 -> 0.44134881 | P10: =0 -> 0 | Q10: =Q9*(1-Assumptions!$C$20)+O10-P10 -> 1.9514434 | R10: =R9*(1-Assumptions!$C$22)+P10*(1-Assumptions!$C$21) -> 0 | S10: =Q10+R10 -> 1.9514434 | T10: =T9*(1-Assumptions!$C$24)+M10*Assumptions!$C$23 -> 0.18076838 | U10: =U9*(1-Assumptions!$C$25)+K10 -> 0 | V10: =V9+M10 -> 1.0270281 | W10: =N10+Q9*Assumptions!$C$20+P10*Assumptions!$C$21+R9*Assumptions!$C$22+T9*Assumptions!$C$24+U9*Assumptions!$C$25 -> 0.11740095 | X10: =IF(A10<Assumptions!$C$34,0,Assumptions!$C$36*MIN(1,(A10-Assumptions!$C$34+1)/Assumptions!$C$35))*(S10+T10) -> 0.023691242 | Y10: =IF(Y9>0,Y9,IF(AND(A10>=Assumptions!$C$41,Q9+R9+T9>=Assumptions!$C$40),A10,0)) -> 0 | Z10: =IF(Y10>0,Assumptions!$C$42*MIN(1,(A10-Y10+1)/Assumptions!$C$43),0)*(S10+T10) -> 0 | AA10: =(1+Assumptions!$C$32)^(C10-1) -> 1 | AB10: =O10*Assumptions!$C$27*AA10 -> 43.693532 | AC10: =(Q9+R9)*Assumptions!$C$28*AA10 -> 152.55037 | AD10: =M10*Assumptions!$C$29*AA10 -> 111.04188 | AE10: =T9*Assumptions!$C$30*AA10 -> 11.451858 | AF10: =U9*Assumptions!$C$31*AA10 -> 0 | AG10: =X10*Assumptions!$C$37*Assumptions!$C$38 -> 1.1845621 | AH10: =Z10*Assumptions!$C$44*Assumptions!$C$45 -> 0 | AI10: =SUM(AB10:AH10) -> 319.9222 | AJ10: =(S10*Assumptions!$C$28+T10*Assumptions!$C$30+U10*Assumptions!$C$31)*AA10+AG10+AH10 -> 208.65816 | AK10: =(AI10-AH10)*Assumptions!$C$49 -> 12.796888 | AL10: =(AC10+AE10+AF10)*Assumptions!$C$50 -> 1.1480156 | AM10: =S10*Assumptions!$C$51+M10*Assumptions!$C$52 -> 5.7772364 | AN10: =Assumptions!$C$53+Assumptions!$C$54*(S10+T10+U10) -> 208.52885 | AO10: =IF(C10>=2,Assumptions!$C$55,0) -> 0 | AP10: =E10*Assumptions!$C$60/60+F10*Assumptions!$C$61+J10*Assumptions!$C$62+(S10+T10)*Assumptions!$C$63+X10*Assumptions!$C$64+Z10*Assumptions!$C$65+U10*Assumptions!$C$66+Assumptions!$C$67*52/12 -> 43.191915 | AQ10: =IF(BC9=1,Assumptions!$C$69,Assumptions!$C$68)*52/12 -> 78 | AR10: =MAX(0,AP10-AQ10) -> 0 | AS10: =AR10*Assumptions!$C$70*Assumptions!$C$71 -> 0 | AT10: =Assumptions!$C$56/12 -> 100 | AU10: =IF(A10=1,Assumptions!$C$57,0)+Assumptions!$C$58 -> 60 | AV10: =IF(AND(Y10>0,Y10=A10),Assumptions!$C$46,0)+IF(Y10>0,Assumptions!$C$47,0) -> 0 | AW10: =AK10+AL10+AM10+AN10+AO10+AS10+AT10+AU10+AV10 -> 388.25099 | AX10: =AI10-AW10 -> -68.328789 | AY10: =MAX(0,AX10)*Assumptions!$C$73 -> 0 | AZ10: =AX10-AY10 -> -68.328789 | BA10: =BA9+AZ10 -> -1389.5157 | BB10: =IF(AZ10>=Assumptions!$C$74/12,BB9+1,0) -> 0 | BC10: =IF(OR(BC9=1,BB10>=3),1,0) -> 0 | BD10: =IF(AZ10>=Assumptions!$C$75/12,BD9+1,0) -> 0 | BE10: =AP10*12/52 -> 9.967365 | BF10: =AR10*12/52 -> 0 | BG10: =IF(AX10>0,A10,999) -> 999 | BH10: =IF(BB10>=3,A10,999) -> 999 | BI10: =IF(BD10>=3,A10,999) -> 999
A11: 7 | B11: =DATE(2026,10+A11,1) -> 46508 | C11: =INT((A11-1)/12)+1 -> 1 | D11: =IF(C11=1,Assumptions!$C$7,IF(C11=2,Assumptions!$C$8,Assumptions!$C$9)) -> 10 | E11: =D11*Assumptions!$C$10 -> 200 | F11: =E11*Assumptions!$C$11 -> 10 | G11: =MIN(1,Assumptions!$C$13+(1-Assumptions!$C$13)*(A11-1)/Assumptions!$C$14) -> 0.8 | H11: =F11*Assumptions!$C$12*G11 -> 0.8 | I11: =Assumptions!$C$15*(Q10+R10+T10+U10) -> 0.010661059 | J11: =H11+I11 -> 0.81066106 | K11: =J11*Assumptions!$C$18 -> 0 | L11: =(J11-K11)*Assumptions!$C$17 -> 0.56746274 | M11: =J11-K11-L11 -> 0.24319832 | N11: =L11*Assumptions!$C$19 -> 0.085119411 | O11: =L11-N11 -> 0.48234333 | P11: =0 -> 0 | Q11: =Q10*(1-Assumptions!$C$20)+O11-P11 -> 2.3947578 | R11: =R10*(1-Assumptions!$C$22)+P11*(1-Assumptions!$C$21) -> 0 | S11: =Q11+R11 -> 2.3947578 | T11: =T10*(1-Assumptions!$C$24)+M11*Assumptions!$C$23 -> 0.21856194 | U11: =U10*(1-Assumptions!$C$25)+K11 -> 0 | V11: =V10+M11 -> 1.2702264 | W11: =N11+Q10*Assumptions!$C$20+P11*Assumptions!$C$21+R10*Assumptions!$C$22+T10*Assumptions!$C$24+U10*Assumptions!$C$25 -> 0.13499438 | X11: =IF(A11<Assumptions!$C$34,0,Assumptions!$C$36*MIN(1,(A11-Assumptions!$C$34+1)/Assumptions!$C$35))*(S11+T11) -> 0.058073773 | Y11: =IF(Y10>0,Y10,IF(AND(A11>=Assumptions!$C$41,Q10+R10+T10>=Assumptions!$C$40),A11,0)) -> 0 | Z11: =IF(Y11>0,Assumptions!$C$42*MIN(1,(A11-Y11+1)/Assumptions!$C$43),0)*(S11+T11) -> 0 | AA11: =(1+Assumptions!$C$32)^(C11-1) -> 1 | AB11: =O11*Assumptions!$C$27*AA11 -> 47.75199 | AC11: =(Q10+R10)*Assumptions!$C$28*AA11 -> 193.19289 | AD11: =M11*Assumptions!$C$29*AA11 -> 121.35596 | AE11: =T10*Assumptions!$C$30*AA11 -> 14.280702 | AF11: =U10*Assumptions!$C$31*AA11 -> 0 | AG11: =X11*Assumptions!$C$37*Assumptions!$C$38 -> 2.9036886 | AH11: =Z11*Assumptions!$C$44*Assumptions!$C$45 -> 0 | AI11: =SUM(AB11:AH11) -> 379.48524 | AJ11: =(S11*Assumptions!$C$28+T11*Assumptions!$C$30+U11*Assumptions!$C$31)*AA11+AG11+AH11 -> 257.25111 | AK11: =(AI11-AH11)*Assumptions!$C$49 -> 15.179409 | AL11: =(AC11+AE11+AF11)*Assumptions!$C$50 -> 1.4523152 | AM11: =S11*Assumptions!$C$51+M11*Assumptions!$C$52 -> 6.6414221 | AN11: =Assumptions!$C$53+Assumptions!$C$54*(S11+T11+U11) -> 210.45328 | AO11: =IF(C11>=2,Assumptions!$C$55,0) -> 0 | AP11: =E11*Assumptions!$C$60/60+F11*Assumptions!$C$61+J11*Assumptions!$C$62+(S11+T11)*Assumptions!$C$63+X11*Assumptions!$C$64+Z11*Assumptions!$C$65+U11*Assumptions!$C$66+Assumptions!$C$67*52/12 -> 44.4124 | AQ11: =IF(BC10=1,Assumptions!$C$69,Assumptions!$C$68)*52/12 -> 78 | AR11: =MAX(0,AP11-AQ11) -> 0 | AS11: =AR11*Assumptions!$C$70*Assumptions!$C$71 -> 0 | AT11: =Assumptions!$C$56/12 -> 100 | AU11: =IF(A11=1,Assumptions!$C$57,0)+Assumptions!$C$58 -> 60 | AV11: =IF(AND(Y11>0,Y11=A11),Assumptions!$C$46,0)+IF(Y11>0,Assumptions!$C$47,0) -> 0 | AW11: =AK11+AL11+AM11+AN11+AO11+AS11+AT11+AU11+AV11 -> 393.72643 | AX11: =AI11-AW11 -> -14.241191 | AY11: =MAX(0,AX11)*Assumptions!$C$73 -> 0 | AZ11: =AX11-AY11 -> -14.241191 | BA11: =BA10+AZ11 -> -1403.7569 | BB11: =IF(AZ11>=Assumptions!$C$74/12,BB10+1,0) -> 0 | BC11: =IF(OR(BC10=1,BB11>=3),1,0) -> 0 | BD11: =IF(AZ11>=Assumptions!$C$75/12,BD10+1,0) -> 0 | BE11: =AP11*12/52 -> 10.249015 | BF11: =AR11*12/52 -> 0 | BG11: =IF(AX11>0,A11,999) -> 999 | BH11: =IF(BB11>=3,A11,999) -> 999 | BI11: =IF(BD11>=3,A11,999) -> 999
A12: 8 | B12: =DATE(2026,10+A12,1) -> 46539 | C12: =INT((A12-1)/12)+1 -> 1 | D12: =IF(C12=1,Assumptions!$C$7,IF(C12=2,Assumptions!$C$8,Assumptions!$C$9)) -> 10 | E12: =D12*Assumptions!$C$10 -> 200 | F12: =E12*Assumptions!$C$11 -> 10 | G12: =MIN(1,Assumptions!$C$13+(1-Assumptions!$C$13)*(A12-1)/Assumptions!$C$14) -> 0.86666667 | H12: =F12*Assumptions!$C$12*G12 -> 0.86666667 | I12: =Assumptions!$C$15*(Q11+R11+T11+U11) -> 0.013066599 | J12: =H12+I12 -> 0.87973327 | K12: =J12*Assumptions!$C$18 -> 0 | L12: =(J12-K12)*Assumptions!$C$17 -> 0.61581329 | M12: =J12-K12-L12 -> 0.26391998 | N12: =L12*Assumptions!$C$19 -> 0.092371993 | O12: =L12-N12 -> 0.52344129 | P12: =0 -> 0 | Q12: =Q11*(1-Assumptions!$C$20)+O12-P12 -> 2.870304 | R12: =R11*(1-Assumptions!$C$22)+P12*(1-Assumptions!$C$21) -> 0 | S12: =Q12+R12 -> 2.870304 | T12: =T11*(1-Assumptions!$C$24)+M12*Assumptions!$C$23 -> 0.25823222 | U12: =U11*(1-Assumptions!$C$25)+K12 -> 0 | V12: =V11+M12 -> 1.5341464 | W12: =N12+Q11*Assumptions!$C$20+P12*Assumptions!$C$21+R11*Assumptions!$C$22+T11*Assumptions!$C$24+U11*Assumptions!$C$25 -> 0.15338087 | X12: =IF(A12<Assumptions!$C$34,0,Assumptions!$C$36*MIN(1,(A12-Assumptions!$C$34+1)/Assumptions!$C$35))*(S12+T12) -> 0.10428454 | Y12: =IF(Y11>0,Y11,IF(AND(A12>=Assumptions!$C$41,Q11+R11+T11>=Assumptions!$C$40),A12,0)) -> 0 | Z12: =IF(Y12>0,Assumptions!$C$42*MIN(1,(A12-Y12+1)/Assumptions!$C$43),0)*(S12+T12) -> 0 | AA12: =(1+Assumptions!$C$32)^(C12-1) -> 1 | AB12: =O12*Assumptions!$C$27*AA12 -> 51.820688 | AC12: =(Q11+R11)*Assumptions!$C$28*AA12 -> 237.08103 | AD12: =M12*Assumptions!$C$29*AA12 -> 131.69607 | AE12: =T11*Assumptions!$C$30*AA12 -> 17.266393 | AF12: =U11*Assumptions!$C$31*AA12 -> 0 | AG12: =X12*Assumptions!$C$37*Assumptions!$C$38 -> 5.214227 | AH12: =Z12*Assumptions!$C$44*Assumptions!$C$45 -> 0 | AI12: =SUM(AB12:AH12) -> 443.0784 | AJ12: =(S12*Assumptions!$C$28+T12*Assumptions!$C$30+U12*Assumptions!$C$31)*AA12+AG12+AH12 -> 309.77467 | AK12: =(AI12-AH12)*Assumptions!$C$49 -> 17.723136 | AL12: =(AC12+AE12+AF12)*Assumptions!$C$50 -> 1.7804319 | AM12: =S12*Assumptions!$C$51+M12*Assumptions!$C$52 -> 7.5466797 | AN12: =Assumptions!$C$53+Assumptions!$C$54*(S12+T12+U12) -> 212.51414 | AO12: =IF(C12>=2,Assumptions!$C$55,0) -> 0 | AP12: =E12*Assumptions!$C$60/60+F12*Assumptions!$C$61+J12*Assumptions!$C$62+(S12+T12)*Assumptions!$C$63+X12*Assumptions!$C$64+Z12*Assumptions!$C$65+U12*Assumptions!$C$66+Assumptions!$C$67*52/12 -> 45.719366 | AQ12: =IF(BC11=1,Assumptions!$C$69,Assumptions!$C$68)*52/12 -> 78 | AR12: =MAX(0,AP12-AQ12) -> 0 | AS12: =AR12*Assumptions!$C$70*Assumptions!$C$71 -> 0 | AT12: =Assumptions!$C$56/12 -> 100 | AU12: =IF(A12=1,Assumptions!$C$57,0)+Assumptions!$C$58 -> 60 | AV12: =IF(AND(Y12>0,Y12=A12),Assumptions!$C$46,0)+IF(Y12>0,Assumptions!$C$47,0) -> 0 | AW12: =AK12+AL12+AM12+AN12+AO12+AS12+AT12+AU12+AV12 -> 399.56439 | AX12: =AI12-AW12 -> 43.514012 | AY12: =MAX(0,AX12)*Assumptions!$C$73 -> 13.054204 | AZ12: =AX12-AY12 -> 30.459808 | BA12: =BA11+AZ12 -> -1373.2971 | BB12: =IF(AZ12>=Assumptions!$C$74/12,BB11+1,0) -> 0 | BC12: =IF(OR(BC11=1,BB12>=3),1,0) -> 0 | BD12: =IF(AZ12>=Assumptions!$C$75/12,BD11+1,0) -> 0 | BE12: =AP12*12/52 -> 10.550623 | BF12: =AR12*12/52 -> 0 | BG12: =IF(AX12>0,A12,999) -> 8 | BH12: =IF(BB12>=3,A12,999) -> 999 | BI12: =IF(BD12>=3,A12,999) -> 999
A13: 9 | B13: =DATE(2026,10+A13,1) -> 46569 | C13: =INT((A13-1)/12)+1 -> 1 | D13: =IF(C13=1,Assumptions!$C$7,IF(C13=2,Assumptions!$C$8,Assumptions!$C$9)) -> 10 | E13: =D13*Assumptions!$C$10 -> 200 | F13: =E13*Assumptions!$C$11 -> 10 | G13: =MIN(1,Assumptions!$C$13+(1-Assumptions!$C$13)*(A13-1)/Assumptions!$C$14) -> 0.93333333 | H13: =F13*Assumptions!$C$12*G13 -> 0.93333333 | I13: =Assumptions!$C$15*(Q12+R12+T12+U12) -> 0.015642681 | J13: =H13+I13 -> 0.94897601 | K13: =J13*Assumptions!$C$18 -> 0 | L13: =(J13-K13)*Assumptions!$C$17 -> 0.66428321 | M13: =J13-K13-L13 -> 0.2846928 | N13: =L13*Assumptions!$C$19 -> 0.099642482 | O13: =L13-N13 -> 0.56464073 | P13: =0 -> 0 | Q13: =Q12*(1-Assumptions!$C$20)+O13-P13 -> 3.3775386 | R13: =R12*(1-Assumptions!$C$22)+P13*(1-Assumptions!$C$21) -> 0 | S13: =Q13+R13 -> 3.3775386 | T13: =T12*(1-Assumptions!$C$24)+M13*Assumptions!$C$23 -> 0.29967685 | U13: =U12*(1-Assumptions!$C$25)+K13 -> 0 | V13: =V12+M13 -> 1.8188392 | W13: =N13+Q12*Assumptions!$C$20+P13*Assumptions!$C$21+R12*Assumptions!$C$22+T12*Assumptions!$C$24+U12*Assumptions!$C$25 -> 0.17254249 | X13: =IF(A13<Assumptions!$C$34,0,Assumptions!$C$36*MIN(1,(A13-Assumptions!$C$34+1)/Assumptions!$C$35))*(S13+T13) -> 0.1634318 | Y13: =IF(Y12>0,Y12,IF(AND(A13>=Assumptions!$C$41,Q12+R12+T12>=Assumptions!$C$40),A13,0)) -> 0 | Z13: =IF(Y13>0,Assumptions!$C$42*MIN(1,(A13-Y13+1)/Assumptions!$C$43),0)*(S13+T13) -> 0 | AA13: =(1+Assumptions!$C$32)^(C13-1) -> 1 | AB13: =O13*Assumptions!$C$27*AA13 -> 55.899432 | AC13: =(Q12+R12)*Assumptions!$C$28*AA13 -> 284.16009 | AD13: =M13*Assumptions!$C$29*AA13 -> 142.06171 | AE13: =T12*Assumptions!$C$30*AA13 -> 20.400345 | AF13: =U12*Assumptions!$C$31*AA13 -> 0 | AG13: =X13*Assumptions!$C$37*Assumptions!$C$38 -> 8.1715899 | AH13: =Z13*Assumptions!$C$44*Assumptions!$C$45 -> 0 | AI13: =SUM(AB13:AH13) -> 510.69317 | AJ13: =(S13*Assumptions!$C$28+T13*Assumptions!$C$30+U13*Assumptions!$C$31)*AA13+AG13+AH13 -> 366.22238 | AK13: =(AI13-AH13)*Assumptions!$C$49 -> 20.427727 | AL13: =(AC13+AE13+AF13)*Assumptions!$C$50 -> 2.1319231 | AM13: =S13*Assumptions!$C$51+M13*Assumptions!$C$52 -> 8.4923153 | AN13: =Assumptions!$C$53+Assumptions!$C$54*(S13+T13+U13) -> 214.70886 | AO13: =IF(C13>=2,Assumptions!$C$55,0) -> 0 | AP13: =E13*Assumptions!$C$60/60+F13*Assumptions!$C$61+J13*Assumptions!$C$62+(S13+T13)*Assumptions!$C$63+X13*Assumptions!$C$64+Z13*Assumptions!$C$65+U13*Assumptions!$C$66+Assumptions!$C$67*52/12 -> 47.113173 | AQ13: =IF(BC12=1,Assumptions!$C$69,Assumptions!$C$68)*52/12 -> 78 | AR13: =MAX(0,AP13-AQ13) -> 0 | AS13: =AR13*Assumptions!$C$70*Assumptions!$C$71 -> 0 | AT13: =Assumptions!$C$56/12 -> 100 | AU13: =IF(A13=1,Assumptions!$C$57,0)+Assumptions!$C$58 -> 60 | AV13: =IF(AND(Y13>0,Y13=A13),Assumptions!$C$46,0)+IF(Y13>0,Assumptions!$C$47,0) -> 0 | AW13: =AK13+AL13+AM13+AN13+AO13+AS13+AT13+AU13+AV13 -> 405.76083 | AX13: =AI13-AW13 -> 104.93234 | AY13: =MAX(0,AX13)*Assumptions!$C$73 -> 31.479703 | AZ13: =AX13-AY13 -> 73.45264 | BA13: =BA12+AZ13 -> -1299.8444 | BB13: =IF(AZ13>=Assumptions!$C$74/12,BB12+1,0) -> 0 | BC13: =IF(OR(BC12=1,BB13>=3),1,0) -> 0 | BD13: =IF(AZ13>=Assumptions!$C$75/12,BD12+1,0) -> 0 | BE13: =AP13*12/52 -> 10.872271 | BF13: =AR13*12/52 -> 0 | BG13: =IF(AX13>0,A13,999) -> 9 | BH13: =IF(BB13>=3,A13,999) -> 999 | BI13: =IF(BD13>=3,A13,999) -> 999
A14: 10 | B14: =DATE(2026,10+A14,1) -> 46600 | C14: =INT((A14-1)/12)+1 -> 1 | D14: =IF(C14=1,Assumptions!$C$7,IF(C14=2,Assumptions!$C$8,Assumptions!$C$9)) -> 10 | E14: =D14*Assumptions!$C$10 -> 200 | F14: =E14*Assumptions!$C$11 -> 10 | G14: =MIN(1,Assumptions!$C$13+(1-Assumptions!$C$13)*(A14-1)/Assumptions!$C$14) -> 1 | H14: =F14*Assumptions!$C$12*G14 -> 1 | I14: =Assumptions!$C$15*(Q13+R13+T13+U13) -> 0.018386077 | J14: =H14+I14 -> 1.0183861 | K14: =J14*Assumptions!$C$18 -> 0 | L14: =(J14-K14)*Assumptions!$C$17 -> 0.71287025 | M14: =J14-K14-L14 -> 0.30551582 | N14: =L14*Assumptions!$C$19 -> 0.10693054 | O14: =L14-N14 -> 0.60593972 | P14: =0 -> 0 | Q14: =Q13*(1-Assumptions!$C$20)+O14-P14 -> 3.9159276 | R14: =R13*(1-Assumptions!$C$22)+P14*(1-Assumptions!$C$21) -> 0 | S14: =Q14+R14 -> 3.9159276 | T14: =T13*(1-Assumptions!$C$24)+M14*Assumptions!$C$23 -> 0.3427994 | U14: =U13*(1-Assumptions!$C$25)+K14 -> 0 | V14: =V13+M14 -> 2.124355 | W14: =N14+Q13*Assumptions!$C$20+P14*Assumptions!$C$21+R13*Assumptions!$C$22+T13*Assumptions!$C$24+U13*Assumptions!$C$25 -> 0.19246192 | X14: =IF(A14<Assumptions!$C$34,0,Assumptions!$C$36*MIN(1,(A14-Assumptions!$C$34+1)/Assumptions!$C$35))*(S14+T14) -> 0.23659594 | Y14: =IF(Y13>0,Y13,IF(AND(A14>=Assumptions!$C$41,Q13+R13+T13>=Assumptions!$C$40),A14,0)) -> 0 | Z14: =IF(Y14>0,Assumptions!$C$42*MIN(1,(A14-Y14+1)/Assumptions!$C$43),0)*(S14+T14) -> 0 | AA14: =(1+Assumptions!$C$32)^(C14-1) -> 1 | AB14: =O14*Assumptions!$C$27*AA14 -> 59.988032 | AC14: =(Q13+R13)*Assumptions!$C$28*AA14 -> 334.37632 | AD14: =M14*Assumptions!$C$29*AA14 -> 152.4524 | AE14: =T13*Assumptions!$C$30*AA14 -> 23.674471 | AF14: =U13*Assumptions!$C$31*AA14 -> 0 | AG14: =X14*Assumptions!$C$37*Assumptions!$C$38 -> 11.829797 | AH14: =Z14*Assumptions!$C$44*Assumptions!$C$45 -> 0 | AI14: =SUM(AB14:AH14) -> 582.32102 | AJ14: =(S14*Assumptions!$C$28+T14*Assumptions!$C$30+U14*Assumptions!$C$31)*AA14+AG14+AH14 -> 426.58778 | AK14: =(AI14-AH14)*Assumptions!$C$49 -> 23.292841 | AL14: =(AC14+AE14+AF14)*Assumptions!$C$50 -> 2.5063556 | AM14: =S14*Assumptions!$C$51+M14*Assumptions!$C$52 -> 9.4776468 | AN14: =Assumptions!$C$53+Assumptions!$C$54*(S14+T14+U14) -> 217.03491 | AO14: =IF(C14>=2,Assumptions!$C$55,0) -> 0 | AP14: =E14*Assumptions!$C$60/60+F14*Assumptions!$C$61+J14*Assumptions!$C$62+(S14+T14)*Assumptions!$C$63+X14*Assumptions!$C$64+Z14*Assumptions!$C$65+U14*Assumptions!$C$66+Assumptions!$C$67*52/12 -> 48.594173 | AQ14: =IF(BC13=1,Assumptions!$C$69,Assumptions!$C$68)*52/12 -> 78 | AR14: =MAX(0,AP14-AQ14) -> 0 | AS14: =AR14*Assumptions!$C$70*Assumptions!$C$71 -> 0 | AT14: =Assumptions!$C$56/12 -> 100 | AU14: =IF(A14=1,Assumptions!$C$57,0)+Assumptions!$C$58 -> 60 | AV14: =IF(AND(Y14>0,Y14=A14),Assumptions!$C$46,0)+IF(Y14>0,Assumptions!$C$47,0) -> 0 | AW14: =AK14+AL14+AM14+AN14+AO14+AS14+AT14+AU14+AV14 -> 412.31175 | AX14: =AI14-AW14 -> 170.00927 | AY14: =MAX(0,AX14)*Assumptions!$C$73 -> 51.002781 | AZ14: =AX14-AY14 -> 119.00649 | BA14: =BA13+AZ14 -> -1180.838 | BB14: =IF(AZ14>=Assumptions!$C$74/12,BB13+1,0) -> 0 | BC14: =IF(OR(BC13=1,BB14>=3),1,0) -> 0 | BD14: =IF(AZ14>=Assumptions!$C$75/12,BD13+1,0) -> 0 | BE14: =AP14*12/52 -> 11.21404 | BF14: =AR14*12/52 -> 0 | BG14: =IF(AX14>0,A14,999) -> 10 | BH14: =IF(BB14>=3,A14,999) -> 999 | BI14: =IF(BD14>=3,A14,999) -> 999
A15: 11 | B15: =DATE(2026,10+A15,1) -> 46631 | C15: =INT((A15-1)/12)+1 -> 1 | D15: =IF(C15=1,Assumptions!$C$7,IF(C15=2,Assumptions!$C$8,Assumptions!$C$9)) -> 10 | E15: =D15*Assumptions!$C$10 -> 200 | F15: =E15*Assumptions!$C$11 -> 10 | G15: =MIN(1,Assumptions!$C$13+(1-Assumptions!$C$13)*(A15-1)/Assumptions!$C$14) -> 1 | H15: =F15*Assumptions!$C$12*G15 -> 1 | I15: =Assumptions!$C$15*(Q14+R14+T14+U14) -> 0.021293635 | J15: =H15+I15 -> 1.0212936 | K15: =J15*Assumptions!$C$18 -> 0 | L15: =(J15-K15)*Assumptions!$C$17 -> 0.71490554 | M15: =J15-K15-L15 -> 0.30638809 | N15: =L15*Assumptions!$C$19 -> 0.10723583 | O15: =L15-N15 -> 0.60766971 | P15: =0 -> 0 | Q15: =Q14*(1-Assumptions!$C$20)+O15-P15 -> 4.4452787 | R15: =R14*(1-Assumptions!$C$22)+P15*(1-Assumptions!$C$21) -> 0 | S15: =Q15+R15 -> 4.4452787 | T15: =T14*(1-Assumptions!$C$24)+M15*Assumptions!$C$23 -> 0.38350905 | U15: =U14*(1-Assumptions!$C$25)+K15 -> 0 | V15: =V14+M15 -> 2.4307431 | W15: =N15+Q14*Assumptions!$C$20+P15*Assumptions!$C$21+R14*Assumptions!$C$22+T14*Assumptions!$C$24+U14*Assumptions!$C$25 -> 0.20612235 | X15: =IF(A15<Assumptions!$C$34,0,Assumptions!$C$36*MIN(1,(A15-Assumptions!$C$34+1)/Assumptions!$C$35))*(S15+T15) -> 0.32191919 | Y15: =IF(Y14>0,Y14,IF(AND(A15>=Assumptions!$C$41,Q14+R14+T14>=Assumptions!$C$40),A15,0)) -> 0 | Z15: =IF(Y15>0,Assumptions!$C$42*MIN(1,(A15-Y15+1)/Assumptions!$C$43),0)*(S15+T15) -> 0 | AA15: =(1+Assumptions!$C$32)^(C15-1) -> 1 | AB15: =O15*Assumptions!$C$27*AA15 -> 60.159302 | AC15: =(Q14+R14)*Assumptions!$C$28*AA15 -> 387.67683 | AD15: =M15*Assumptions!$C$29*AA15 -> 152.88766 | AE15: =T14*Assumptions!$C$30*AA15 -> 27.081153 | AF15: =U14*Assumptions!$C$31*AA15 -> 0 | AG15: =X15*Assumptions!$C$37*Assumptions!$C$38 -> 16.095959 | AH15: =Z15*Assumptions!$C$44*Assumptions!$C$45 -> 0 | AI15: =SUM(AB15:AH15) -> 643.9009 | AJ15: =(S15*Assumptions!$C$28+T15*Assumptions!$C$30+U15*Assumptions!$C$31)*AA15+AG15+AH15 -> 486.47577 | AK15: =(AI15-AH15)*Assumptions!$C$49 -> 25.756036 | AL15: =(AC15+AE15+AF15)*Assumptions!$C$50 -> 2.9033059 | AM15: =S15*Assumptions!$C$51+M15*Assumptions!$C$52 -> 10.15242 | AN15: =Assumptions!$C$53+Assumptions!$C$54*(S15+T15+U15) -> 219.31515 | AO15: =IF(C15>=2,Assumptions!$C$55,0) -> 0 | AP15: =E15*Assumptions!$C$60/60+F15*Assumptions!$C$61+J15*Assumptions!$C$62+(S15+T15)*Assumptions!$C$63+X15*Assumptions!$C$64+Z15*Assumptions!$C$65+U15*Assumptions!$C$66+Assumptions!$C$67*52/12 -> 49.871002 | AQ15: =IF(BC14=1,Assumptions!$C$69,Assumptions!$C$68)*52/12 -> 78 | AR15: =MAX(0,AP15-AQ15) -> 0 | AS15: =AR15*Assumptions!$C$70*Assumptions!$C$71 -> 0 | AT15: =Assumptions!$C$56/12 -> 100 | AU15: =IF(A15=1,Assumptions!$C$57,0)+Assumptions!$C$58 -> 60 | AV15: =IF(AND(Y15>0,Y15=A15),Assumptions!$C$46,0)+IF(Y15>0,Assumptions!$C$47,0) -> 0 | AW15: =AK15+AL15+AM15+AN15+AO15+AS15+AT15+AU15+AV15 -> 418.12691 | AX15: =AI15-AW15 -> 225.77399 | AY15: =MAX(0,AX15)*Assumptions!$C$73 -> 67.732196 | AZ15: =AX15-AY15 -> 158.04179 | BA15: =BA14+AZ15 -> -1022.7962 | BB15: =IF(AZ15>=Assumptions!$C$74/12,BB14+1,0) -> 0 | BC15: =IF(OR(BC14=1,BB15>=3),1,0) -> 0 | BD15: =IF(AZ15>=Assumptions!$C$75/12,BD14+1,0) -> 0 | BE15: =AP15*12/52 -> 11.508693 | BF15: =AR15*12/52 -> 0 | BG15: =IF(AX15>0,A15,999) -> 11 | BH15: =IF(BB15>=3,A15,999) -> 999 | BI15: =IF(BD15>=3,A15,999) -> 999
A16: 12 | B16: =DATE(2026,10+A16,1) -> 46661 | C16: =INT((A16-1)/12)+1 -> 1 | D16: =IF(C16=1,Assumptions!$C$7,IF(C16=2,Assumptions!$C$8,Assumptions!$C$9)) -> 10 | E16: =D16*Assumptions!$C$10 -> 200 | F16: =E16*Assumptions!$C$11 -> 10 | G16: =MIN(1,Assumptions!$C$13+(1-Assumptions!$C$13)*(A16-1)/Assumptions!$C$14) -> 1 | H16: =F16*Assumptions!$C$12*G16 -> 1 | I16: =Assumptions!$C$15*(Q15+R15+T15+U15) -> 0.024143939 | J16: =H16+I16 -> 1.0241439 | K16: =J16*Assumptions!$C$18 -> 0 | L16: =(J16-K16)*Assumptions!$C$17 -> 0.71690076 | M16: =J16-K16-L16 -> 0.30724318 | N16: =L16*Assumptions!$C$19 -> 0.10753511 | O16: =L16-N16 -> 0.60936564 | P16: =0 -> 0 | Q16: =Q15*(1-Assumptions!$C$20)+O16-P16 -> 4.9657388 | R16: =R15*(1-Assumptions!$C$22)+P16*(1-Assumptions!$C$21) -> 0 | S16: =Q16+R16 -> 4.9657388 | T16: =T15*(1-Assumptions!$C$24)+M16*Assumptions!$C$23 -> 0.42194715 | U16: =U15*(1-Assumptions!$C$25)+K16 -> 0 | V16: =V15+M16 -> 2.7379863 | W16: =N16+Q15*Assumptions!$C$20+P16*Assumptions!$C$21+R15*Assumptions!$C$22+T15*Assumptions!$C$24+U15*Assumptions!$C$25 -> 0.21945123 | X16: =IF(A16<Assumptions!$C$34,0,Assumptions!$C$36*MIN(1,(A16-Assumptions!$C$34+1)/Assumptions!$C$35))*(S16+T16) -> 0.41904224 | Y16: =IF(Y15>0,Y15,IF(AND(A16>=Assumptions!$C$41,Q15+R15+T15>=Assumptions!$C$40),A16,0)) -> 0 | Z16: =IF(Y16>0,Assumptions!$C$42*MIN(1,(A16-Y16+1)/Assumptions!$C$43),0)*(S16+T16) -> 0 | AA16: =(1+Assumptions!$C$32)^(C16-1) -> 1 | AB16: =O16*Assumptions!$C$27*AA16 -> 60.327199 | AC16: =(Q15+R15)*Assumptions!$C$28*AA16 -> 440.08259 | AD16: =M16*Assumptions!$C$29*AA16 -> 153.31435 | AE16: =T15*Assumptions!$C$30*AA16 -> 30.297215 | AF16: =U15*Assumptions!$C$31*AA16 -> 0 | AG16: =X16*Assumptions!$C$37*Assumptions!$C$38 -> 20.952112 | AH16: =Z16*Assumptions!$C$44*Assumptions!$C$45 -> 0 | AI16: =SUM(AB16:AH16) -> 704.97347 | AJ16: =(S16*Assumptions!$C$28+T16*Assumptions!$C$30+U16*Assumptions!$C$31)*AA16+AG16+AH16 -> 545.89408 | AK16: =(AI16-AH16)*Assumptions!$C$49 -> 28.198939 | AL16: =(AC16+AE16+AF16)*Assumptions!$C$50 -> 3.2926587 | AM16: =S16*Assumptions!$C$51+M16*Assumptions!$C$52 -> 10.815821 | AN16: =Assumptions!$C$53+Assumptions!$C$54*(S16+T16+U16) -> 221.55074 | AO16: =IF(C16>=2,Assumptions!$C$55,0) -> 0 | AP16: =E16*Assumptions!$C$60/60+F16*Assumptions!$C$61+J16*Assumptions!$C$62+(S16+T16)*Assumptions!$C$63+X16*Assumptions!$C$64+Z16*Assumptions!$C$65+U16*Assumptions!$C$66+Assumptions!$C$67*52/12 -> 51.143034 | AQ16: =IF(BC15=1,Assumptions!$C$69,Assumptions!$C$68)*52/12 -> 78 | AR16: =MAX(0,AP16-AQ16) -> 0 | AS16: =AR16*Assumptions!$C$70*Assumptions!$C$71 -> 0 | AT16: =Assumptions!$C$56/12 -> 100 | AU16: =IF(A16=1,Assumptions!$C$57,0)+Assumptions!$C$58 -> 60 | AV16: =IF(AND(Y16>0,Y16=A16),Assumptions!$C$46,0)+IF(Y16>0,Assumptions!$C$47,0) -> 0 | AW16: =AK16+AL16+AM16+AN16+AO16+AS16+AT16+AU16+AV16 -> 423.85816 | AX16: =AI16-AW16 -> 281.11531 | AY16: =MAX(0,AX16)*Assumptions!$C$73 -> 84.334592 | AZ16: =AX16-AY16 -> 196.78071 | BA16: =BA15+AZ16 -> -826.01545 | BB16: =IF(AZ16>=Assumptions!$C$74/12,BB15+1,0) -> 0 | BC16: =IF(OR(BC15=1,BB16>=3),1,0) -> 0 | BD16: =IF(AZ16>=Assumptions!$C$75/12,BD15+1,0) -> 0 | BE16: =AP16*12/52 -> 11.802239 | BF16: =AR16*12/52 -> 0 | BG16: =IF(AX16>0,A16,999) -> 12 | BH16: =IF(BB16>=3,A16,999) -> 999 | BI16: =IF(BD16>=3,A16,999) -> 999
A17: 13 | B17: =DATE(2026,10+A17,1) -> 46692 | C17: =INT((A17-1)/12)+1 -> 2 | D17: =IF(C17=1,Assumptions!$C$7,IF(C17=2,Assumptions!$C$8,Assumptions!$C$9)) -> 12 | E17: =D17*Assumptions!$C$10 -> 240 | F17: =E17*Assumptions!$C$11 -> 12 | G17: =MIN(1,Assumptions!$C$13+(1-Assumptions!$C$13)*(A17-1)/Assumptions!$C$14) -> 1 | H17: =F17*Assumptions!$C$12*G17 -> 1.2 | I17: =Assumptions!$C$15*(Q16+R16+T16+U16) -> 0.02693843 | J17: =H17+I17 -> 1.2269384 | K17: =J17*Assumptions!$C$18 -> 0 | L17: =(J17-K17)*Assumptions!$C$17 -> 0.8588569 | M17: =J17-K17-L17 -> 0.36808153 | N17: =L17*Assumptions!$C$19 -> 0.12882854 | O17: =L17-N17 -> 0.73002837 | P17: =O5*(1-Assumptions!$C$20)^12 -> 0.18676258 | Q17: =Q16*(1-Assumptions!$C$20)+O17-P17 -> 5.4096898 | R17: =R16*(1-Assumptions!$C$22)+P17*(1-Assumptions!$C$21) -> 0.13073381 | S17: =Q17+R17 -> 5.5404236 | T17: =T16*(1-Assumptions!$C$24)+M17*Assumptions!$C$23 -> 0.47024662 | U17: =U16*(1-Assumptions!$C$25)+K17 -> 0 | V17: =V16+M17 -> 3.1060678 | W17: =N17+Q16*Assumptions!$C$20+P17*Assumptions!$C$21+R16*Assumptions!$C$22+T16*Assumptions!$C$24+U16*Assumptions!$C$25 -> 0.30948891 | X17: =IF(A17<Assumptions!$C$34,0,Assumptions!$C$36*MIN(1,(A17-Assumptions!$C$34+1)/Assumptions!$C$35))*(S17+T17) -> 0.5342818 | Y17: =IF(Y16>0,Y16,IF(AND(A17>=Assumptions!$C$41,Q16+R16+T16>=Assumptions!$C$40),A17,0)) -> 0 | Z17: =IF(Y17>0,Assumptions!$C$42*MIN(1,(A17-Y17+1)/Assumptions!$C$43),0)*(S17+T17) -> 0 | AA17: =(1+Assumptions!$C$32)^(C17-1) -> 1 | AB17: =O17*Assumptions!$C$27*AA17 -> 72.272808 | AC17: =(Q16+R16)*Assumptions!$C$28*AA17 -> 491.60814 | AD17: =M17*Assumptions!$C$29*AA17 -> 183.67268 | AE17: =T16*Assumptions!$C$30*AA17 -> 33.333825 | AF17: =U16*Assumptions!$C$31*AA17 -> 0 | AG17: =X17*Assumptions!$C$37*Assumptions!$C$38 -> 26.71409 | AH17: =Z17*Assumptions!$C$44*Assumptions!$C$45 -> 0 | AI17: =SUM(AB17:AH17) -> 807.60155 | AJ17: =(S17*Assumptions!$C$28+T17*Assumptions!$C$30+U17*Assumptions!$C$31)*AA17+AG17+AH17 -> 612.36551 | AK17: =(AI17-AH17)*Assumptions!$C$49 -> 32.304062 | AL17: =(AC17+AE17+AF17)*Assumptions!$C$50 -> 3.6745938 | AM17: =S17*Assumptions!$C$51+M17*Assumptions!$C$52 -> 12.446752 | AN17: =Assumptions!$C$53+Assumptions!$C$54*(S17+T17+U17) -> 224.04268 | AO17: =IF(C17>=2,Assumptions!$C$55,0) -> 100 | AP17: =E17*Assumptions!$C$60/60+F17*Assumptions!$C$61+J17*Assumptions!$C$62+(S17+T17)*Assumptions!$C$63+X17*Assumptions!$C$64+Z17*Assumptions!$C$65+U17*Assumptions!$C$66+Assumptions!$C$67*52/12 -> 57.036912 | AQ17: =IF(BC16=1,Assumptions!$C$69,Assumptions!$C$68)*52/12 -> 78 | AR17: =MAX(0,AP17-AQ17) -> 0 | AS17: =AR17*Assumptions!$C$70*Assumptions!$C$71 -> 0 | AT17: =Assumptions!$C$56/12 -> 100 | AU17: =IF(A17=1,Assumptions!$C$57,0)+Assumptions!$C$58 -> 60 | AV17: =IF(AND(Y17>0,Y17=A17),Assumptions!$C$46,0)+IF(Y17>0,Assumptions!$C$47,0) -> 0 | AW17: =AK17+AL17+AM17+AN17+AO17+AS17+AT17+AU17+AV17 -> 532.46809 | AX17: =AI17-AW17 -> 275.13346 | AY17: =MAX(0,AX17)*Assumptions!$C$73 -> 82.540037 | AZ17: =AX17-AY17 -> 192.59342 | BA17: =BA16+AZ17 -> -633.42203 | BB17: =IF(AZ17>=Assumptions!$C$74/12,BB16+1,0) -> 0 | BC17: =IF(OR(BC16=1,BB17>=3),1,0) -> 0 | BD17: =IF(AZ17>=Assumptions!$C$75/12,BD16+1,0) -> 0 | BE17: =AP17*12/52 -> 13.162364 | BF17: =AR17*12/52 -> 0 | BG17: =IF(AX17>0,A17,999) -> 13 | BH17: =IF(BB17>=3,A17,999) -> 999 | BI17: =IF(BD17>=3,A17,999) -> 999
